BEGIN:VCALENDAR
VERSION:2.0
PRODID:-//CPTS Cœur Essonne - ECPv6.15.14//NONSGML v1.0//EN
CALSCALE:GREGORIAN
METHOD:PUBLISH
X-WR-CALNAME:CPTS Cœur Essonne
X-ORIGINAL-URL:https://cptscoeuressonne.fr
X-WR-CALDESC:Évènements pour CPTS Cœur Essonne
REFRESH-INTERVAL;VALUE=DURATION:PT1H
X-Robots-Tag:noindex
X-PUBLISHED-TTL:PT1H
BEGIN:VTIMEZONE
TZID:UTC
BEGIN:STANDARD
TZOFFSETFROM:+0000
TZOFFSETTO:+0000
TZNAME:UTC
DTSTART:20240101T000000
END:STANDARD
END:VTIMEZONE
BEGIN:VEVENT
DTSTART;TZID=UTC:20251218T190000
DTEND;TZID=UTC:20251218T220000
DTSTAMP:20260421T143218
CREATED:20251124T161453Z
LAST-MODIFIED:20251124T161933Z
UID:3672-1766084400-1766095200@cptscoeuressonne.fr
SUMMARY:ASSEMBLEE GENERALE
DESCRIPTION:Nous avons le plaisir de vous convier à notre assemblée générale qui se tiendra \n\nJeudi 18 décembre 2025\nà partir de 19 heures \nEspace Olympe de Gouges – salle Ingrid Betancourt \nrue René Dècle\nà St Germain les Arpajon\n\n\nCe temps fort de notre association est l’occasion de faire le point sur nos actions\, d’échanger et de construire ensemble les projets de demain.\n\nVotre présence est précieuse !\n\nMerci de bien vouloir compléter le formulaire sur ce lien pour confirmer votre venue.\n\n\nSi vous ne pouvez pas être présent\, n’oubliez pas de compléter votre procuration à la fin de ce formulaire !
URL:https://cptscoeuressonne.fr/evenement/assemblee-generale/
LOCATION:Espace Olympe de Gouges\, rue René Dècle\, St Germain les Arpajon\, 91180\, France
ATTACH;FMTTYPE=image/png:https://cptscoeuressonne.fr/wp-content/uploads/2025/11/etiquettes-site-internet-5.png
END:VEVENT
END:VCALENDAR