BEGIN:VCALENDAR
VERSION:2.0
PRODID:-//CPTS Cœur Essonne - ECPv6.15.14//NONSGML v1.0//EN
CALSCALE:GREGORIAN
METHOD:PUBLISH
X-WR-CALNAME:CPTS Cœur Essonne
X-ORIGINAL-URL:https://cptscoeuressonne.fr
X-WR-CALDESC:Évènements pour CPTS Cœur Essonne
REFRESH-INTERVAL;VALUE=DURATION:PT1H
X-Robots-Tag:noindex
X-PUBLISHED-TTL:PT1H
BEGIN:VTIMEZONE
TZID:UTC
BEGIN:STANDARD
TZOFFSETFROM:+0000
TZOFFSETTO:+0000
TZNAME:UTC
DTSTART:20240101T000000
END:STANDARD
END:VTIMEZONE
BEGIN:VEVENT
DTSTART;TZID=UTC:20250517T090000
DTEND;TZID=UTC:20250517T110000
DTSTAMP:20260421T233037
CREATED:20251124T172334Z
LAST-MODIFIED:20251124T172334Z
UID:3720-1747472400-1747479600@cptscoeuressonne.fr
SUMMARY:Atelier diabète gestationnel
DESCRIPTION:La prise en charge du diabète gestationnel lors de la grossesse\, et le suivi après l’accouchement\, permet de prévenir les complications et l’apparition d’un diabète de type 2 chez la mère. \nC’est pourquoi la CPTS Coeur Essonne a mis en place des ateliers à destination des femmes souffrant de cette pathologie. \nLe prochain atelier aura lieu le samedi 17 mai 2025 entre 9 heures et 11 heures. \n  \nPour inscrire une de vos patientes\, contactez Angelica ALVES : \n\ncontact@cptscoeuressonne.fr\n06 73 31 74 00.\nvia SIILO; message à CPTS Coeur Essonne
URL:https://cptscoeuressonne.fr/evenement/atelier-diabete-gestationnel-2/
LOCATION:MSP Brétigny sur Orge\, Brétigne sur Orge
ATTACH;FMTTYPE=image/png:https://cptscoeuressonne.fr/wp-content/uploads/2025/10/etiquettes-site-internet-12.png
END:VEVENT
END:VCALENDAR