BEGIN:VCALENDAR
VERSION:2.0
PRODID:-//CPTS Cœur Essonne - ECPv6.15.14//NONSGML v1.0//EN
CALSCALE:GREGORIAN
METHOD:PUBLISH
X-WR-CALNAME:CPTS Cœur Essonne
X-ORIGINAL-URL:https://cptscoeuressonne.fr
X-WR-CALDESC:Évènements pour CPTS Cœur Essonne
REFRESH-INTERVAL;VALUE=DURATION:PT1H
X-Robots-Tag:noindex
X-PUBLISHED-TTL:PT1H
BEGIN:VTIMEZONE
TZID:UTC
BEGIN:STANDARD
TZOFFSETFROM:+0000
TZOFFSETTO:+0000
TZNAME:UTC
DTSTART:20240101T000000
END:STANDARD
END:VTIMEZONE
BEGIN:VEVENT
DTSTART;TZID=UTC:20250625T200000
DTEND;TZID=UTC:20250625T220000
DTSTAMP:20260421T200036
CREATED:20251124T172840Z
LAST-MODIFIED:20251124T172840Z
UID:3726-1750881600-1750888800@cptscoeuressonne.fr
SUMMARY:Formation à la prise en charge des victimes de Violences intrafamiliales
DESCRIPTION:Les CPTS Coeur Essonne et Val d’Orge organisent une soirée de sensibilisation sur les violences intra-familiales\, avec la participation du conseil départemental de l’Essonne\, des associations Femmes solidarité 91 et Lea solidarité. \n\nle Mercredi 25 juin à 20h\,\nsalle polyvalente – avenue du lieutenant Agoutin à Marolles en Hurepoix\n\nSujets abordés au cours de cette soirée :\n– Sensibilisation aux critères de repérage des VIF : développer votre rôle de sentinelle et de tiers détecteurs\n– Le secret professionnel du personnel médical à l’épreuve des violences intrafamiliales (cadet juridique)\n– Présentation des ressources locales existantes.\n\nCes apports théoriques seront mis en scène par la compagnie théâtrale  » langue de chat « .\n\nUn buffet vous sera proposé lors de cette soirée.\n\nInscrivez-vous vite en cliquant ICI
URL:https://cptscoeuressonne.fr/evenement/formation-a-la-prise-en-charge-des-victimes-de-violences-intrafamiliales-2/
LOCATION:Salle André Malraux\, 1B Rue du Jardin public\, Sainte-Geneviève-des-Bois\, 91700\, France
ATTACH;FMTTYPE=image/png:https://cptscoeuressonne.fr/wp-content/uploads/2025/11/etiquettes-site-internet-4.png
END:VEVENT
END:VCALENDAR