BEGIN:VCALENDAR
VERSION:2.0
PRODID:-//CPTS Cœur Essonne - ECPv6.15.14//NONSGML v1.0//EN
CALSCALE:GREGORIAN
METHOD:PUBLISH
X-WR-CALNAME:CPTS Cœur Essonne
X-ORIGINAL-URL:https://cptscoeuressonne.fr
X-WR-CALDESC:Évènements pour CPTS Cœur Essonne
REFRESH-INTERVAL;VALUE=DURATION:PT1H
X-Robots-Tag:noindex
X-PUBLISHED-TTL:PT1H
BEGIN:VTIMEZONE
TZID:Europe/Paris
BEGIN:DAYLIGHT
TZOFFSETFROM:+0100
TZOFFSETTO:+0200
TZNAME:CEST
DTSTART:20240331T010000
END:DAYLIGHT
BEGIN:STANDARD
TZOFFSETFROM:+0200
TZOFFSETTO:+0100
TZNAME:CET
DTSTART:20241027T010000
END:STANDARD
BEGIN:DAYLIGHT
TZOFFSETFROM:+0100
TZOFFSETTO:+0200
TZNAME:CEST
DTSTART:20250330T010000
END:DAYLIGHT
BEGIN:STANDARD
TZOFFSETFROM:+0200
TZOFFSETTO:+0100
TZNAME:CET
DTSTART:20251026T010000
END:STANDARD
BEGIN:DAYLIGHT
TZOFFSETFROM:+0100
TZOFFSETTO:+0200
TZNAME:CEST
DTSTART:20260329T010000
END:DAYLIGHT
BEGIN:STANDARD
TZOFFSETFROM:+0200
TZOFFSETTO:+0100
TZNAME:CET
DTSTART:20261025T010000
END:STANDARD
END:VTIMEZONE
BEGIN:VEVENT
DTSTART;TZID=Europe/Paris:20250515T200000
DTEND;TZID=Europe/Paris:20250515T220000
DTSTAMP:20260422T004925
CREATED:20251124T172209Z
LAST-MODIFIED:20251124T172209Z
UID:3718-1747339200-1747346400@cptscoeuressonne.fr
SUMMARY:Formation à la spirométrie
DESCRIPTION:Souhaitant renforcer son réseau de praticiens formés\, et ainsi agir sur l’augmentation du taux de dépistage du territoire\, les CPTS Coeur Essonne et Val d’Orge ont le plaisir de vous convier à une soirée de formation à la pratique de la spirométrie. \nMercredi 15 mai 2025\, à 20h00\, \nà la salle de Mares\, Pôle associatif et familial des Mares Yon à St Michel/Orge \n  \nInscription
URL:https://cptscoeuressonne.fr/evenement/formation-a-la-spirometrie-2/
ATTACH;FMTTYPE=image/png:https://cptscoeuressonne.fr/wp-content/uploads/2025/10/etiquettes-site-internet-8-e1764929551619.png
END:VEVENT
END:VCALENDAR