BEGIN:VCALENDAR
VERSION:2.0
PRODID:-//CPTS Cœur Essonne - ECPv6.15.14//NONSGML v1.0//EN
CALSCALE:GREGORIAN
METHOD:PUBLISH
X-WR-CALNAME:CPTS Cœur Essonne
X-ORIGINAL-URL:https://cptscoeuressonne.fr
X-WR-CALDESC:Évènements pour CPTS Cœur Essonne
REFRESH-INTERVAL;VALUE=DURATION:PT1H
X-Robots-Tag:noindex
X-PUBLISHED-TTL:PT1H
BEGIN:VTIMEZONE
TZID:UTC
BEGIN:STANDARD
TZOFFSETFROM:+0000
TZOFFSETTO:+0000
TZNAME:UTC
DTSTART:20250101T000000
END:STANDARD
END:VTIMEZONE
BEGIN:VEVENT
DTSTART;TZID=UTC:20260312T193000
DTEND;TZID=UTC:20260312T213000
DTSTAMP:20260421T143702
CREATED:20260223T105640Z
LAST-MODIFIED:20260223T105640Z
UID:5205-1773343800-1773351000@cptscoeuressonne.fr
SUMMARY:INVITATION CH Bligny : soirée dédiée à la pneumologie
DESCRIPTION:Dans le cadre de notre renforcement du lien ville-hôpital\, le Centre Hospitalier de Bligny vous convie à une soirée dédiée à la pneumologie le \nJeudi 12 mars\, de 19h30 à 21h30.\nLors de cette soirée\, les thématiques suivantes seront abordées : \n\nDr Sari JEDIDI – BPCO\nDr Roland JOVAN – Asthme\nDr Adelina GHERGAN – Réhabilitation Respiratoire\n\n\nInscription obligatoire\, buffet sur place : Soirée Pneumologie Jeudi 12 mars 2026 – Remplir le formulaire \nOu par mail : chbcomm@chbligny.fr
URL:https://cptscoeuressonne.fr/evenement/invitation-ch-bligny-soiree-dediee-a-la-pneumologie/
LOCATION:CH Bligny\, Rue de Bligny\, Briis-sous-Forges\, 91640
ATTACH;FMTTYPE=image/png:https://cptscoeuressonne.fr/wp-content/uploads/2026/02/Capture-decran-2026-02-23-a-11.46.05.png
ORGANIZER;CN="CH Bligny":MAILTO:chbcomm@chbligny.fr
END:VEVENT
END:VCALENDAR