BEGIN:VCALENDAR
VERSION:2.0
PRODID:-//CPTS Cœur Essonne - ECPv6.15.14//NONSGML v1.0//EN
CALSCALE:GREGORIAN
METHOD:PUBLISH
X-WR-CALNAME:CPTS Cœur Essonne
X-ORIGINAL-URL:https://cptscoeuressonne.fr
X-WR-CALDESC:Évènements pour CPTS Cœur Essonne
REFRESH-INTERVAL;VALUE=DURATION:PT1H
X-Robots-Tag:noindex
X-PUBLISHED-TTL:PT1H
BEGIN:VTIMEZONE
TZID:UTC
BEGIN:STANDARD
TZOFFSETFROM:+0000
TZOFFSETTO:+0000
TZNAME:UTC
DTSTART:20250101T000000
END:STANDARD
END:VTIMEZONE
BEGIN:VEVENT
DTSTART;TZID=UTC:20260210T183000
DTEND;TZID=UTC:20260210T203000
DTSTAMP:20260421T161814
CREATED:20260202T111125Z
LAST-MODIFIED:20260202T111125Z
UID:5138-1770748200-1770755400@cptscoeuressonne.fr
SUMMARY:Soirée de lancement de la Grande Cause 2026 « Bien grandir avec les mots »
DESCRIPTION:Le Département de l’Essonne lance en 2026 sa Grande Cause départementale « Bien grandir avec les mots »\, consacrée au développement du langage dès la petite enfance\, enjeu majeur de prévention\, de santé publique et d’égalité des chances. \n  \nÀ cette occasion\, nous avons le plaisir de vous inviter à la soirée de lancement\, qui se tiendra : \n  \n\nMardi 10 février 2026\nÀ partir de 18h30\nArènes de l’Agora – Évry-Courcouronnes\n\n  \nCette soirée réunira familles\, professionnels de santé\, acteurs de la petite enfance\, associations et partenaires du territoire. Elle proposera des prises de parole inspirantes\, un éclairage scientifique\, ainsi qu’un temps d’échanges au sein du Village des mots\, espace dédié aux initiatives et ressources en matière de prévention\, de repérage et d’accompagnement du développement du langage. \nVotre expertise et votre engagement auprès des enfants et des familles sont essentiels à la réussite de cette Grande Cause. Votre présence contribuera à nourrir une dynamique collective et à renforcer les coopérations entre acteurs de santé\, d’éducation et de la petite enfance. \n  \nPour en savoir plus sur le programme de la soirée\, nous vous invitons à visionner la vidéo de présentation :\nhttps://www.youtube.com/watch?v=6VUCLD4ZxQw \nInscription gratuite (dans la limite des places disponibles) : Soirée essonnienne et de lancement de la grande cause de l’Essonne – Conseil départemental de l’Essonne
URL:https://cptscoeuressonne.fr/evenement/soiree-de-lancement-de-la-grande-cause-2026-bien-grandir-avec-les-mots/
LOCATION:Arènes de l’Agora – Évry-Courcouronnes\, 2 Rue Eugène Thomas\, Evry Courcouronnes\, 91000
ATTACH;FMTTYPE=image/png:https://cptscoeuressonne.fr/wp-content/uploads/2026/02/Capture-decran-2026-02-02-a-11.55.12.png
END:VEVENT
END:VCALENDAR