BEGIN:VCALENDAR
VERSION:2.0
PRODID:-//CPTS Cœur Essonne - ECPv6.15.14//NONSGML v1.0//EN
CALSCALE:GREGORIAN
METHOD:PUBLISH
X-WR-CALNAME:CPTS Cœur Essonne
X-ORIGINAL-URL:https://cptscoeuressonne.fr
X-WR-CALDESC:Évènements pour CPTS Cœur Essonne
REFRESH-INTERVAL;VALUE=DURATION:PT1H
X-Robots-Tag:noindex
X-PUBLISHED-TTL:PT1H
BEGIN:VTIMEZONE
TZID:UTC
BEGIN:STANDARD
TZOFFSETFROM:+0000
TZOFFSETTO:+0000
TZNAME:UTC
DTSTART:20250101T000000
END:STANDARD
END:VTIMEZONE
BEGIN:VEVENT
DTSTART;TZID=UTC:20260115T173000
DTEND;TZID=UTC:20260115T210000
DTSTAMP:20260421T143656
CREATED:20260108T142648Z
LAST-MODIFIED:20260108T143006Z
UID:5014-1768498200-1768510800@cptscoeuressonne.fr
SUMMARY:SPS vous convie à une galette des rois conviviale
DESCRIPTION:Cliquez ici pour vous inscrire
URL:https://cptscoeuressonne.fr/evenement/sps-vous-convie-a-une-galette-des-rois-conviviale/
LOCATION:Maison des soignants SPS\, 11 rue Ampère\, PARIS\, 75017
ATTACH;FMTTYPE=image/png:https://cptscoeuressonne.fr/wp-content/uploads/2026/01/Capture-decran-2026-01-08-a-15.22.22.png
END:VEVENT
END:VCALENDAR