BEGIN:VCALENDAR
VERSION:2.0
PRODID:-//CPTS Cœur Essonne - ECPv6.15.14//NONSGML v1.0//EN
CALSCALE:GREGORIAN
METHOD:PUBLISH
X-WR-CALNAME:CPTS Cœur Essonne
X-ORIGINAL-URL:https://cptscoeuressonne.fr
X-WR-CALDESC:Évènements pour CPTS Cœur Essonne
REFRESH-INTERVAL;VALUE=DURATION:PT1H
X-Robots-Tag:noindex
X-PUBLISHED-TTL:PT1H
BEGIN:VTIMEZONE
TZID:UTC
BEGIN:STANDARD
TZOFFSETFROM:+0000
TZOFFSETTO:+0000
TZNAME:UTC
DTSTART:20250101T000000
END:STANDARD
END:VTIMEZONE
BEGIN:VEVENT
DTSTART;TZID=UTC:20260603T140000
DTEND;TZID=UTC:20260603T200000
DTSTAMP:20260421T123325
CREATED:20260421T082541Z
LAST-MODIFIED:20260421T082753Z
UID:5483-1780495200-1780516800@cptscoeuressonne.fr
SUMMARY:Village prévention à Marolles en Hurepoix
DESCRIPTION:Le mercredi 3 juin\, la CPTS Cœur Essonne organise un village prévention à la salle polyvalente de Marolles-en-Hurepoix\, un événement entièrement gratuit et accessible sans inscription. \nPendant toute l’après-midi\, de 14h à 20h\, les habitants du territoire ont pu prendre un temps pour eux\, s’informer\, se faire dépister et échanger avec des professionnels de santé engagés. \n\nUn événement pour tous les publics\nPensé comme un moment convivial et utile\, ce village prévention s’adressait à toutes les générations : \n\n\n 	Jeunes : sensibilisation aux risques liés aux écrans\, au tabac et au vapotage\, ainsi qu’à la prévention bucco-dentaire\n 	Adultes : bilan de prévention\, dépistage du cancer colorectal\, information sur l’auto-palpation\n 	Seniors : prévention des chutes et accompagnement autour du bilan de prévention\n 	Tous les publics : bilan de forme\, ateliers nutrition\, sensibilisation aux perturbateurs endocriniens et dépistage du cancer de la peau\n\nUn espace dédié à l’accès aux droits était également proposé\, avec la présence de l’Assurance Maladie pour accompagner les participants dans l’ouverture et l’utilisation de leur espace santé.
URL:https://cptscoeuressonne.fr/evenement/village-prevention-a-marolles-en-hurepoix/
LOCATION:Salle polyvalente\, avenue du lieutenant Agoutin\, Marolles en Hurepoix\, 91630
ATTACH;FMTTYPE=image/png:https://cptscoeuressonne.fr/wp-content/uploads/2026/04/etiquettes-site-internet-49.png
END:VEVENT
END:VCALENDAR