BEGIN:VCALENDAR
VERSION:2.0
PRODID:-//CPTS Cœur Essonne - ECPv6.15.14//NONSGML v1.0//EN
CALSCALE:GREGORIAN
METHOD:PUBLISH
X-WR-CALNAME:CPTS Cœur Essonne
X-ORIGINAL-URL:https://cptscoeuressonne.fr
X-WR-CALDESC:Évènements pour CPTS Cœur Essonne
REFRESH-INTERVAL;VALUE=DURATION:PT1H
X-Robots-Tag:noindex
X-PUBLISHED-TTL:PT1H
BEGIN:VTIMEZONE
TZID:UTC
BEGIN:STANDARD
TZOFFSETFROM:+0000
TZOFFSETTO:+0000
TZNAME:UTC
DTSTART:20240101T000000
END:STANDARD
END:VTIMEZONE
BEGIN:VEVENT
DTSTART;TZID=UTC:20251007T130000
DTEND;TZID=UTC:20251007T140000
DTSTAMP:20260421T161814
CREATED:20251124T165950Z
LAST-MODIFIED:20251124T165950Z
UID:3699-1759842000-1759845600@cptscoeuressonne.fr
SUMMARY:WEBINAIRE antibiothérapie : PEC allergies à la penicilline
DESCRIPTION:« Docteur ! Je suis allergique à la pénicilline »\nDans vos cabinets\, vous êtes souvent confrontés à des situations d’allergie médicamenteuse.\nCe webinaire vous propose un regard croisé entre des acteurs de la médecine de ville et des acteurs de la médecine hospitalière pour échanger sur les difficultés rencontrées. \nLes intervenants : \nDr Amélie Chabrol\, infectiologue\, cheffe de service Maladies infectieuses au CHSF et Adrien Bonavita\, pharmacien hospitalier\nDr Fabien Besançon\, médecin généraliste à Égly\, président de CPTS\nDr Estelle Aubry\, allergologue à Gometz-le-Châtel\nDr Arthur-Pierre Teixeira\, allergologue au CHSF \nCliquez ICI pour vous inscrire
URL:https://cptscoeuressonne.fr/evenement/webinaire-antibiotherapie-pec-allergies-a-la-penicilline/
LOCATION:en visioconférence
ATTACH;FMTTYPE=image/png:https://cptscoeuressonne.fr/wp-content/uploads/2025/11/etiquettes-site-internet-9.png
END:VEVENT
END:VCALENDAR