BEGIN:VCALENDAR
VERSION:2.0
PRODID:-//CPTS Cœur Essonne - ECPv6.15.14//NONSGML v1.0//EN
CALSCALE:GREGORIAN
METHOD:PUBLISH
X-WR-CALNAME:CPTS Cœur Essonne
X-ORIGINAL-URL:https://cptscoeuressonne.fr
X-WR-CALDESC:Évènements pour CPTS Cœur Essonne
REFRESH-INTERVAL;VALUE=DURATION:PT1H
X-Robots-Tag:noindex
X-PUBLISHED-TTL:PT1H
BEGIN:VTIMEZONE
TZID:UTC
BEGIN:STANDARD
TZOFFSETFROM:+0000
TZOFFSETTO:+0000
TZNAME:UTC
DTSTART:20250101T000000
END:STANDARD
END:VTIMEZONE
BEGIN:VEVENT
DTSTART;TZID=UTC:20260203T093000
DTEND;TZID=UTC:20260203T110000
DTSTAMP:20260421T161310
CREATED:20260130T135150Z
LAST-MODIFIED:20260130T140306Z
UID:5108-1770111000-1770116400@cptscoeuressonne.fr
SUMMARY:WEBINAIRE Dr Junior
DESCRIPTION:Accueil des Docteurs Juniors en Essonne : participez au webinaire d’information\nDans le cadre de la préparation à l’accueil des Docteurs Juniors sur le territoire\, l’ARS Ile de France organise un webinaire d’échanges réunissant les facultés de médecine d’Île-de-France et les médecins généralistes de l’Essonne. \n📅 Date et horaires\nMardi 3 février 2026🕤 De 9h30 à 11h \nCe temps d’échange a pour objectif de répondre à vos interrogations et de faciliter l’organisation de l’accueil des Docteurs Juniors sur le territoire. \n\n❓ Posez vos questions et confirmez votre participation\nNous vous invitons à : \n\n\nposer vos questions en amont du webinaire\, \n\n\nconfirmer votre participation via le lien suivant : \n\n\n👉 Cliquez ici \n\n🔗 Lien de connexion au webinaire\nLe webinaire se déroulera via Microsoft Teams. \n👉 Rejoindre la réunion maintenant👉 Cliquer ici \nNuméro de réunion : 395 657 917 196 45Code secret : V3CY9vw6 \nBesoin d’aide ? Un lien d’assistance est disponible lors de la connexion. \n\nNous comptons sur votre mobilisation et vous remercions par avance pour votre participation. \nBien cordialement\,
URL:https://cptscoeuressonne.fr/evenement/webinaire-dr-junior/
LOCATION:en visioconférence
ATTACH;FMTTYPE=image/jpeg:https://cptscoeuressonne.fr/wp-content/uploads/2025/12/iStock-1208672944_BD-scaled.jpg
END:VEVENT
END:VCALENDAR