BEGIN:VCALENDAR
VERSION:2.0
PRODID:-//CPTS Cœur Essonne - ECPv6.15.14//NONSGML v1.0//EN
CALSCALE:GREGORIAN
METHOD:PUBLISH
X-WR-CALNAME:CPTS Cœur Essonne
X-ORIGINAL-URL:https://cptscoeuressonne.fr
X-WR-CALDESC:Évènements pour CPTS Cœur Essonne
REFRESH-INTERVAL;VALUE=DURATION:PT1H
X-Robots-Tag:noindex
X-PUBLISHED-TTL:PT1H
BEGIN:VTIMEZONE
TZID:UTC
BEGIN:STANDARD
TZOFFSETFROM:+0000
TZOFFSETTO:+0000
TZNAME:UTC
DTSTART:20250101T000000
END:STANDARD
END:VTIMEZONE
BEGIN:VEVENT
DTSTART;TZID=UTC:20260211T130000
DTEND;TZID=UTC:20260211T140000
DTSTAMP:20260421T143608
CREATED:20260116T121313Z
LAST-MODIFIED:20260203T120957Z
UID:5069-1770814800-1770818400@cptscoeuressonne.fr
SUMMARY:WEBINAIRE NUMERIQUE EN SANTE #11
DESCRIPTION:Bonjour\, Les CPTS et la CPAM de l’Essonne co-organisent un nouveau webinaire sur le numérique en santé à destination de tous les professionnels de santé. Il sera animé par le Dr Fabien Besançon (médecin généraliste à Égly\, président de la CPTS Cœur Essonne)\, Laurence Delobbe (IDEL et membre de la CPTS Noé Santé)\, Linda Uger et Laurent Couture de la CPAM de l’Essonne (respectivement Déléguée Numérique en Santé et référent e-santé)  le mercredi 11 février de 13h00 à 14h00. Thématiques :La délégation AmeliPro pour les médecins remplaçants et les internes en médecine.La réalisation d’un Bilan de Soins Infirmier (BSI)Le télé service d’Aide à la Détection d’Atypies de Consommation (ADAC) pour les officines  Les présentations laissent une large place aux questions et aux préoccupations des professionnels. 								\n				\n		\n				\n				\n									\n					\n						\n									Cliquez ICI pour vous inscrire\n					\n					\n				\n								\n				\n				\n				\n									\n					\n						\n									Cliquez ICI pour assister au webinaire
URL:https://cptscoeuressonne.fr/evenement/webinaire-numerique-en-sante-11/
LOCATION:en visioconférence
ATTACH;FMTTYPE=image/png:https://cptscoeuressonne.fr/wp-content/uploads/2025/11/etiquettes-site-internet-11-e1764879273745.png
END:VEVENT
END:VCALENDAR