BEGIN:VCALENDAR
VERSION:2.0
PRODID:-//CPTS Cœur Essonne - ECPv6.15.14//NONSGML v1.0//EN
CALSCALE:GREGORIAN
METHOD:PUBLISH
X-WR-CALNAME:CPTS Cœur Essonne
X-ORIGINAL-URL:https://cptscoeuressonne.fr
X-WR-CALDESC:Évènements pour CPTS Cœur Essonne
REFRESH-INTERVAL;VALUE=DURATION:PT1H
X-Robots-Tag:noindex
X-PUBLISHED-TTL:PT1H
BEGIN:VTIMEZONE
TZID:UTC
BEGIN:STANDARD
TZOFFSETFROM:+0000
TZOFFSETTO:+0000
TZNAME:UTC
DTSTART:20240101T000000
END:STANDARD
END:VTIMEZONE
BEGIN:VEVENT
DTSTART;TZID=UTC:20250603T130000
DTEND;TZID=UTC:20250603T140000
DTSTAMP:20260421T233216
CREATED:20251124T172557Z
LAST-MODIFIED:20251124T172557Z
UID:3722-1748955600-1748959200@cptscoeuressonne.fr
SUMMARY:WEBINAIRE NUMERIQUE EN SANTE #9
DESCRIPTION: \nWebinaire animé par :\n\nDr Fabien BESANÇON (médecin généraliste à Egly\, président de la CPTS Cœur Essonne)\nLaurent COUTURE (CPAM Essonne)\n\n\nThèmes abordés \n\n–  Présentation de l’outil PIXACRE\, pour le suivi des pieds diabétique\,\n– Présentation de l’application carte vitale (AP CV)\, généralisée le 18 mars dernier\, \n–  L’utilisation de l’ordonnance numérique\, notamment dans le cadre de médicaments contenant du tramadol\, de la codéine\, ou de la dihydrocodéine. \n \n\n\nInscrivez vous via ce formulaire. \ncliquez ICI pour vous inscrire\n\n\n\nLien direct pour rejoindre la réunion Zoom :\nParticiper à la réunion Zoom\n 
URL:https://cptscoeuressonne.fr/evenement/webinaire-numerique-en-sante-9/
LOCATION:en visioconférence
ATTACH;FMTTYPE=image/png:https://cptscoeuressonne.fr/wp-content/uploads/2025/11/etiquettes-site-internet-11-e1764879273745.png
END:VEVENT
END:VCALENDAR